BEGIN:VCALENDAR
VERSION:2.0
PRODID:-//The Northern Cavalier King Charles Spaniel Society - ECPv6.15.17//NONSGML v1.0//EN
CALSCALE:GREGORIAN
METHOD:PUBLISH
X-WR-CALNAME:The Northern Cavalier King Charles Spaniel Society
X-ORIGINAL-URL:https://northerncavalier.co.uk
X-WR-CALDESC:Events for The Northern Cavalier King Charles Spaniel Society
REFRESH-INTERVAL;VALUE=DURATION:PT1H
X-Robots-Tag:noindex
X-PUBLISHED-TTL:PT1H
BEGIN:VTIMEZONE
TZID:Europe/London
BEGIN:DAYLIGHT
TZOFFSETFROM:+0000
TZOFFSETTO:+0100
TZNAME:BST
DTSTART:20230326T010000
END:DAYLIGHT
BEGIN:STANDARD
TZOFFSETFROM:+0100
TZOFFSETTO:+0000
TZNAME:GMT
DTSTART:20231029T010000
END:STANDARD
BEGIN:DAYLIGHT
TZOFFSETFROM:+0000
TZOFFSETTO:+0100
TZNAME:BST
DTSTART:20240331T010000
END:DAYLIGHT
BEGIN:STANDARD
TZOFFSETFROM:+0100
TZOFFSETTO:+0000
TZNAME:GMT
DTSTART:20241027T010000
END:STANDARD
BEGIN:DAYLIGHT
TZOFFSETFROM:+0000
TZOFFSETTO:+0100
TZNAME:BST
DTSTART:20250330T010000
END:DAYLIGHT
BEGIN:STANDARD
TZOFFSETFROM:+0100
TZOFFSETTO:+0000
TZNAME:GMT
DTSTART:20251026T010000
END:STANDARD
END:VTIMEZONE
BEGIN:VEVENT
DTSTART;TZID=Europe/London:20240324T100000
DTEND;TZID=Europe/London:20240324T120000
DTSTAMP:20260422T131519
CREATED:20231229T210244Z
LAST-MODIFIED:20231229T211146Z
UID:516-1711274400-1711281600@northerncavalier.co.uk
SUMMARY:AGM
DESCRIPTION:
URL:https://northerncavalier.co.uk/event/agm/
LOCATION:Coronation Hall\, Boroughbridge\, YO51 9BL\, United Kingdom
CATEGORIES:Annual General Meeting
END:VEVENT
END:VCALENDAR